BEGIN:VCALENDAR
VERSION:2.0
PRODID:-//eventon.com NONSGML v1.0//EN
CALSCALE:GREGORIAN
METHOD:PUBLISH
BEGIN:VEVENT
UID:69e5162d39aaf
DTSTAMP:20260419T175141Z
DTSTART:20220731T120000Z
DTEND:20220731T123000Z
LOCATION:Idaville Church 3590 Carlisle Road
SUMMARY:Believers Baptism
DESCRIPTION:Believers baptism is the outward expression of an inward decisi
 on that an individual makes when they believe in Jesus Christ and receive H
 im into their lives. We will be celebrating believers baptism following the
  worship service on July 31\,  2022 and prior to our Vacation Bible School
  picnic. If you are[..]\nhttps://idaville.church/events/believers-baptism-4
 /
URL:https://idaville.church/events/believers-baptism-4/
END:VEVENT
END:VCALENDAR