BEGIN:VCALENDAR
VERSION:2.0
PRODID:-//eventon.com NONSGML v1.0//EN
CALSCALE:GREGORIAN
METHOD:PUBLISH
BEGIN:VEVENT
UID:69e52b7c9f912
DTSTAMP:20260419T192236Z
DTSTART:20220731T123000Z
DTEND:20220731T150000Z
LOCATION:Idaville Church 3590 Carlisle Road
SUMMARY:VBS Picnic
DESCRIPTION:After an incredible week of Vacation Bible School\,  it&#8217;s
  time to celebrate with our VBS Picnic.  Invite the whole family to join t
 he children for food\,  fellowship\,  and fun at the Idaville Church Pavili
 on. Bring a side dish to share.  Stay for fun games and activities for the
  whole family.\nhttps://idaville.church/events/vbs-picnic-3/
URL:https://idaville.church/events/vbs-picnic-3/
END:VEVENT
END:VCALENDAR