BEGIN:VCALENDAR
VERSION:2.0
PRODID:-//eventon.com NONSGML v1.0//EN
CALSCALE:GREGORIAN
METHOD:PUBLISH
BEGIN:VEVENT
UID:69e5e4513ccf9
DTSTAMP:20260420T083113Z
DTSTART:20230614T120000Z
DTEND:20230614T140000Z
LOCATION:T.J. Rockwell&#039;s American Grill &amp; Tavern 896 West Grantham Road
SUMMARY:Nifty 50's Luncheon
DESCRIPTION:Join other people for lunch and fellowship.  This group meets 
 at a different local restaurant each month. They will be meeting in June a
 t:  T.J. Rockwell&#8217;s American Grill &amp; Tavern\,  896 West Grantham
  Road\,  Mechanicsburg\,  PA 17055. Enjoy fellowship and encouragement! Cal
 l Brenda at 717-528-4863 with any questions.\nhttps://idaville.church/event
 s/nifty-50s-luncheon-22/
URL:https://idaville.church/events/nifty-50s-luncheon-22/
END:VEVENT
END:VCALENDAR