BEGIN:VCALENDAR
VERSION:2.0
PRODID:-//eventon.com NONSGML v1.0//EN
CALSCALE:GREGORIAN
METHOD:PUBLISH
BEGIN:VEVENT
UID:69e9dd1988c66
DTSTAMP:20260423T084929Z
DTSTART:20240410T120000Z
DTEND:20240410T140000Z
LOCATION:
SUMMARY:Nifty 50's Luncheon
DESCRIPTION:Join other people for lunch and fellowship.  This group meets 
 at a different local restaurant each month. They will be meeting in April 
 at:  Eisenhower Diner in Hanover (please call for address information). E
 njoy fellowship and encouragement! Call Brenda at 717-528-4863 with any que
 stions.\nhttps://idaville.church/events/nifty-50s-luncheon-32/
URL:https://idaville.church/events/nifty-50s-luncheon-32/
END:VEVENT
END:VCALENDAR