BEGIN:VCALENDAR
VERSION:2.0
PRODID:-//eventon.com NONSGML v1.0//EN
CALSCALE:GREGORIAN
METHOD:PUBLISH
BEGIN:VEVENT
UID:69e72563267b7
DTSTAMP:20260421T072107Z
DTSTART:20240508T120000Z
DTEND:20240508T140000Z
LOCATION:T.J. Rockwell&#039;s American Grill &amp; Tavern 896 West Grantham Road
SUMMARY:Nifty 50's Luncheon
DESCRIPTION:Join other people for lunch and fellowship.  This group meets 
 at a different local restaurant each month. They will be meeting in May at
 :  T.J. Rockwell&#8217;s in Mechanicsburg (please call for address inform
 ation). Enjoy fellowship and encouragement! Call Brenda at 717-528-4863 wit
 h any questions.\nhttps://idaville.church/events/nifty-50s-luncheon-33/
URL:https://idaville.church/events/nifty-50s-luncheon-33/
END:VEVENT
END:VCALENDAR