BEGIN:VCALENDAR
VERSION:2.0
PRODID:-//eventon.com NONSGML v1.0//EN
CALSCALE:GREGORIAN
METHOD:PUBLISH
BEGIN:VEVENT
UID:69ea957489433
DTSTAMP:20260423T215604Z
DTSTART:20251214T140000Z
DTEND:20251214T170000Z
LOCATION:Idaville Church 3590 Carlisle Road
SUMMARY:Christmas Caroling
DESCRIPTION:Join us on December 14\,  2025 as we go out to bless our commun
 ity and shut-ins for the season of celebrating Jesus&#8217; birth. We will 
 meet at 2:00pm @ SpiritTrust and then 3:15pm @ The Gardens of Gettysburg. &
 nbsp;\nhttps://idaville.church/events/christmas-caroling-3/
URL:https://idaville.church/events/christmas-caroling-3/
END:VEVENT
END:VCALENDAR