BEGIN:VCALENDAR
VERSION:2.0
PRODID:-//eventon.com NONSGML v1.0//EN
CALSCALE:GREGORIAN
METHOD:PUBLISH
BEGIN:VEVENT
UID:69ea829b8432a
DTSTAMP:20260423T203539Z
DTSTART:20251217T183000Z
DTEND:20251217T193000Z
LOCATION:Idaville Church 3590 Carlisle Road
SUMMARY:IUB Kids Christmas Party
DESCRIPTION:Join our children&#8217;s ministry as they celebrate Jesus&#821
 7; birth.\nhttps://idaville.church/events/iub-kids-christmas-party-2/
URL:https://idaville.church/events/iub-kids-christmas-party-2/
END:VEVENT
END:VCALENDAR