BEGIN:VCALENDAR
VERSION:2.0
PRODID:-//eventon.com NONSGML v1.0//EN
CALSCALE:GREGORIAN
METHOD:PUBLISH
BEGIN:VEVENT
UID:69ea6a9703554
DTSTAMP:20260423T185311Z
DTSTART:20251221T170000Z
DTEND:20251221T190000Z
LOCATION:Idaville Church 3590 Carlisle Road
SUMMARY:Church Family Christmas Party
DESCRIPTION:Everyone is invited to the Annual Church Family Christmas Party
 ! Located in the multipurpose room.\nhttps://idaville.church/events/church-
 family-christmas-party/
URL:https://idaville.church/events/church-family-christmas-party/
END:VEVENT
END:VCALENDAR