BEGIN:VCALENDAR
VERSION:2.0
PRODID:-//eventon.com NONSGML v1.0//EN
CALSCALE:GREGORIAN
METHOD:PUBLISH
BEGIN:VEVENT
UID:69ea55a89d675
DTSTAMP:20260423T172352Z
DTSTART:20251224T190000Z
DTEND:20251224T200000Z
LOCATION:Idaville Church 3590 Carlisle Road
SUMMARY:Christmas Eve Candlelight Service
DESCRIPTION:Bring the whole family together to prepare for Christmas mornin
 g.  Our Christmas Eve service includes the lighting of candles as we remem
 ber Jesus as the Light of the World.\nhttps://idaville.church/events/christ
 mas-eve-candlelight-service/
URL:https://idaville.church/events/christmas-eve-candlelight-service/
END:VEVENT
END:VCALENDAR