BEGIN:VCALENDAR
VERSION:2.0
PRODID:-//eventon.com NONSGML v1.0//EN
CALSCALE:GREGORIAN
METHOD:PUBLISH
BEGIN:VEVENT
UID:69e5243b2f7a4
DTSTAMP:20260419T185139Z
DTSTART:20170514T101500Z
DTEND:20170514T120000Z
LOCATION:Idaville Church 3590 Carlisle Road
SUMMARY:Mother's Day
DESCRIPTION:Piercing Word will be joining us for Mother&#8217;s Day as the
 y present &#8220;Women of the Bible.&#8221; It will be an incredible mornin
 g of hearing God&#8217;s Word presented word-for-word from the English Stan
 dard Version in a dramatic way. Plan to bless your mother by inviting her t
 o join you on Mother&#8217;s Day[..]\nhttps://idaville.church/events/mother
 s-day/
URL:https://idaville.church/events/mothers-day/
END:VEVENT
END:VCALENDAR