BEGIN:VCALENDAR
VERSION:2.0
PRODID:-//eventon.com NONSGML v1.0//EN
CALSCALE:GREGORIAN
METHOD:PUBLISH
BEGIN:VEVENT
UID:69e53a3cbf463
DTSTAMP:20260419T202532Z
DTSTART:20170611T200000Z
DTEND:20170611T220000Z
LOCATION:pin Gateway Gettysburg Theater 20 Presidential Circle
SUMMARY:Harvest America Simulcast
DESCRIPTION:Invite your family\,  friends\,  and coworkers to join you for 
 the 2017 Harvest America live simulcast at Gateway Gettysburg Theater\,  20
  Presidential Circle\,  Gettysburg\,  PA 17325. Join Pastor Greg Laurie and
  his musical guests\,  MERCYME\,  NEEDTOBREATHE\,  Phil Wickham\,  and Trip
  Lee as they share a message of hope for everyone![..]\nhttps://idaville.ch
 urch/events/harvest-america-simulcast/
URL:https://idaville.church/events/harvest-america-simulcast/
END:VEVENT
END:VCALENDAR