BEGIN:VCALENDAR
VERSION:2.0
PRODID:-//eventon.com NONSGML v1.0//EN
CALSCALE:GREGORIAN
METHOD:PUBLISH
BEGIN:VEVENT
UID:69e6301961376
DTSTAMP:20260420T135433Z
DTSTART:20170618T093000Z
DTEND:20170618T100000Z
LOCATION:Idaville Church 3590 Carlisle Road
SUMMARY:Sundae Sunday 2017
DESCRIPTION:Come make your own ice cream sundae on Father&#8217;s Day\,  Ju
 ne 18\,  2017 from 9:30 am to 10:00 am in the gym of the multipurpose room.
  Ice cream (including lactose free) and all of the toppings are provided. J
 oin us for the worship serice at 10:15 am.\nhttps://idaville.church/events/
 sundae-sunday-2017/
URL:https://idaville.church/events/sundae-sunday-2017/
END:VEVENT
END:VCALENDAR