BEGIN:VCALENDAR
VERSION:2.0
PRODID:-//eventon.com NONSGML v1.0//EN
CALSCALE:GREGORIAN
METHOD:PUBLISH
BEGIN:VEVENT
UID:69e61e9c8c750
DTSTAMP:20260420T123956Z
DTSTART:20170724T183000Z
DTEND:20170724T203000Z
LOCATION:Idaville Church 3590 Carlisle Road
SUMMARY:Vacation Bible School 2017
DESCRIPTION:Vacation Bible School is coming! Plan to join us for the entire
  week of July 24-28\,  2017 from 6:30-8:30 pm every evening as we discover 
 that we have been &#8220;created by God and build for a purpose!&#8221; You
  can register online at idaville.church or by calling Idaville Church at 
 717-323-0335.\nhttps://idaville.church/events/vacation-bible-school-2017/
URL:https://idaville.church/events/vacation-bible-school-2017/
END:VEVENT
END:VCALENDAR