BEGIN:VCALENDAR
VERSION:2.0
PRODID:-//eventon.com NONSGML v1.0//EN
CALSCALE:GREGORIAN
METHOD:PUBLISH
BEGIN:VEVENT
UID:69e60c4e3cf48
DTSTAMP:20260420T112150Z
DTSTART:20170906T190000Z
DTEND:20170906T200000Z
LOCATION:Idaville Church 3590 Carlisle Road
SUMMARY:Romanian Children's Choir
DESCRIPTION:Young people from the Caminul Felix Romanian Orphanage will be 
 joining us on Wednesday\,  September 6\,  2017. They will be sharing powerf
 ul testimonies from their lives and a broad variety of music &#8211; classi
 cal\,  gospel\,  and Romanian folk tunes. Bring the whole family! A love of
 fering will be received after[..]\nhttps://idaville.church/events/romanian-
 childrens-choir/
URL:https://idaville.church/events/romanian-childrens-choir/
END:VEVENT
END:VCALENDAR