BEGIN:VCALENDAR
VERSION:2.0
PRODID:-//eventon.com NONSGML v1.0//EN
CALSCALE:GREGORIAN
METHOD:PUBLISH
BEGIN:VEVENT
UID:69e5f6eb7f3e3
DTSTAMP:20260420T095035Z
DTSTART:20170917T221500Z
DTEND:20170917T233000Z
LOCATION:Idaville Church 3590 Carlisle Road
SUMMARY:National Back To Church Sunday
DESCRIPTION:We&#8217;re inviting everyone to join us for church on Sunday\,
   September 17\,  2017 for National Back To Church Sunday. Perhaps you&#821
 7;ve never been to church or it&#8217;s been a while since you&#8217;ve bee
 n to church. Consider coming back to church to find a place to belong. If y
 ou&#8217;re a regular[..]\nhttps://idaville.church/events/national-back-to-
 church-sunday/
URL:https://idaville.church/events/national-back-to-church-sunday/
END:VEVENT
END:VCALENDAR