BEGIN:VCALENDAR
VERSION:2.0
PRODID:-//eventon.com NONSGML v1.0//EN
CALSCALE:GREGORIAN
METHOD:PUBLISH
BEGIN:VEVENT
UID:69e5e2750bd51
DTSTAMP:20260420T082317Z
DTSTART:20180330T180000Z
DTEND:20180330T200000Z
LOCATION:Idaville Church 3590 Carlisle Road
SUMMARY:Good Friday Service
DESCRIPTION:Join us on Friday\,  March 30\,  2018 at 6:00 pm for our Good F
 riday Fundraiser Meal and Youth Program.  Enjoy a spaghetti dinner with me
 atballs\,  salad\,  bread\,  drinks\,  and dessert.  The program will foll
 ow the meal and will include a skit\,  songs\,  special music\,  and other 
 readings. All donations will[..]\nhttps://idaville.church/events/good-frida
 y-service/
URL:https://idaville.church/events/good-friday-service/
END:VEVENT
END:VCALENDAR