BEGIN:VCALENDAR
VERSION:2.0
PRODID:-//eventon.com NONSGML v1.0//EN
CALSCALE:GREGORIAN
METHOD:PUBLISH
BEGIN:VEVENT
UID:69e5e3fe8c5cd
DTSTAMP:20260420T082950Z
DTSTART:20180815T190000Z
DTEND:20180815T200000Z
LOCATION:Idaville Church 3590 Carlisle Road
SUMMARY:IUB Kids Bible Club
DESCRIPTION:Our Wednesday evening Kids Club is for children in Kindergarten
  through 6th grade.  They spend time playing\,  singing\,  and learning fr
 om God&#8217;s Word.\nhttps://idaville.church/events/iub-kids-bible-club/
URL:https://idaville.church/events/iub-kids-bible-club/
END:VEVENT
END:VCALENDAR