BEGIN:VCALENDAR
VERSION:2.0
PRODID:-//eventon.com NONSGML v1.0//EN
CALSCALE:GREGORIAN
METHOD:PUBLISH
BEGIN:VEVENT
UID:69e74bb096495
DTSTAMP:20260421T100432Z
DTSTART:20180929T080000Z
DTEND:20180929T100000Z
LOCATION:Idaville Church 3590 Carlisle Road
SUMMARY:Men's Breakfast
DESCRIPTION:Join other men from all ages for breakfast\,  fellowship\,  and
  encouragement from God&#8217;s Word. Jerome in San Francisco Our theme:  
 &#8220;Walking West:  Stepping Into the Promises of God.&#8221;  Our spec
 ial speaker will be Jerome Beers.  He will be sharing his story of how Go
 d called him\,  at age 21\,  to drop[..]\nhttps://idaville.church/events/me
 ns-breakfast/
URL:https://idaville.church/events/mens-breakfast/
END:VEVENT
END:VCALENDAR