BEGIN:VCALENDAR
VERSION:2.0
PRODID:-//eventon.com NONSGML v1.0//EN
CALSCALE:GREGORIAN
METHOD:PUBLISH
BEGIN:VEVENT
UID:69eb7c2c0b1e2
DTSTAMP:20260424T142028Z
DTSTART:20181014T101500Z
DTEND:20181014T114500Z
LOCATION:Idaville Church 3590 Carlisle Road
SUMMARY:Worship Service
DESCRIPTION:Join us for the worship service where we spend time worshiping 
 the Lord\,  praying\,  and studying God&#8217;s Word. We are currently stud
 ying through the book of Revelation.  On Sunday\,  October 14\,  2018 we w
 ill be studying Revelation 13:11-18. Nursery is provided for children\,  in
 fants through 2 years old.  Children ages[..]\nhttps://idaville.church/eve
 nts/worship-service-8/
URL:https://idaville.church/events/worship-service-8/
END:VEVENT
END:VCALENDAR