BEGIN:VCALENDAR
VERSION:2.0
PRODID:-//eventon.com NONSGML v1.0//EN
CALSCALE:GREGORIAN
METHOD:PUBLISH
BEGIN:VEVENT
UID:69eb58f0d84cd
DTSTAMP:20260424T115008Z
DTSTART:20181028T101500Z
DTEND:20181028T114500Z
LOCATION:Idaville Church 3590 Carlisle Road
SUMMARY:Worship Service
DESCRIPTION:Join us for the worship service where we spend time worshiping 
 the Lord\,  praying\,  and studying God&#8217;s Word. We are currently stud
 ying through the book of Revelation.  On Sunday\,  October 28\,  2018 we w
 ill be studying Revelation 14:1-5. Nursery is provided for children\,  infa
 nts through 2 years old.  Children ages[..]\nhttps://idaville.church/event
 s/worship-service-9/
URL:https://idaville.church/events/worship-service-9/
END:VEVENT
END:VCALENDAR