BEGIN:VCALENDAR
VERSION:2.0
PRODID:-//eventon.com NONSGML v1.0//EN
CALSCALE:GREGORIAN
METHOD:PUBLISH
BEGIN:VEVENT
UID:69eb4a0188375
DTSTAMP:20260424T104625Z
DTSTART:20181016T190000Z
DTEND:20181016T200000Z
LOCATION:Idaville Church 3590 Carlisle Road
SUMMARY:Men's Bible Study
DESCRIPTION:Join with other men as we learn together and keep each other ac
 countable. We&#8217;ll be using the book Honor Begins at Home based on the
  movie &#8220;Courageous.&#8221; We meet every other Tuesday evening at 7:0
 0 pm and repeat the same material on every other Saturday morning at 7:00 a
 m. If you[..]\nhttps://idaville.church/events/mens-bible-study-18/
URL:https://idaville.church/events/mens-bible-study-18/
END:VEVENT
END:VCALENDAR