BEGIN:VCALENDAR
VERSION:2.0
PRODID:-//eventon.com NONSGML v1.0//EN
CALSCALE:GREGORIAN
METHOD:PUBLISH
BEGIN:VEVENT
UID:69eb36d05af24
DTSTAMP:20260424T092432Z
DTSTART:20181014T180000Z
DTEND:20181014T190000Z
LOCATION:
SUMMARY:Gardners Home Small Group
DESCRIPTION:This small group meets in the Gardners area every other Sunday 
 evening beginning at 6:00 pm. They are studying the book Is This The End? 
 by David Jeremiah. If you are interested in joining this small group\,  ple
 ase RSVP below and we will contact you with address information for the loc
 ation[..]\nhttps://idaville.church/events/gardners-home-small-group/
URL:https://idaville.church/events/gardners-home-small-group/
END:VEVENT
END:VCALENDAR