BEGIN:VCALENDAR
VERSION:2.0
PRODID:-//eventon.com NONSGML v1.0//EN
CALSCALE:GREGORIAN
METHOD:PUBLISH
BEGIN:VEVENT
UID:69e8868bbafa4
DTSTAMP:20260422T082755Z
DTSTART:20180916T183000Z
DTEND:20180916T203000Z
LOCATION:
SUMMARY:York Springs Home Small Group
DESCRIPTION:This small group meets in the York Springs area every other Sun
 day evening from 6:30 to 8:30 pm. They are studying the book Grace:  More
  Than We Deserve\,  Greater Than We Imagine by Max Lucado. If you are inte
 rested in joining this small group\,  please RSVP below and we will contact
  you[..]\nhttps://idaville.church/events/york-springs-home-small-group/
URL:https://idaville.church/events/york-springs-home-small-group/
END:VEVENT
END:VCALENDAR