BEGIN:VCALENDAR
VERSION:2.0
PRODID:-//eventon.com NONSGML v1.0//EN
CALSCALE:GREGORIAN
METHOD:PUBLISH
BEGIN:VEVENT
UID:69e7cc1d889d4
DTSTAMP:20260421T191229Z
DTSTART:20181230T101500Z
DTEND:20181230T114500Z
LOCATION:Idaville Church 3590 Carlisle Road
SUMMARY:Worship Service
DESCRIPTION:Join us for the worship service where we spend time worshiping 
 the Lord\,  praying\,  and studying God&#8217;s Word. We are currently stud
 ying through the book of Revelation.  On Sunday\,  December 30\,  2018 we 
 will be studying Revelation 18:21-24. Nursery is provided for children\,  i
 nfants through 2 years old.  Children ages[..]\nhttps://idaville.church/ev
 ents/worship-service-11/
URL:https://idaville.church/events/worship-service-11/
END:VEVENT
END:VCALENDAR