BEGIN:VCALENDAR
VERSION:2.0
PRODID:-//eventon.com NONSGML v1.0//EN
CALSCALE:GREGORIAN
METHOD:PUBLISH
BEGIN:VEVENT
UID:69e7a9af71e23
DTSTAMP:20260421T164535Z
DTSTART:20190120T101500Z
DTEND:20190120T114500Z
LOCATION:Idaville Church 3590 Carlisle Road
SUMMARY:Worship Service
DESCRIPTION:Join us for the worship service where we spend time worshiping 
 the Lord\,  praying\,  and studying God&#8217;s Word. We are currently stud
 ying through the book of Revelation.  On Sunday\,  January 20\,  2019 we 
 will be studying Revelation 19:6-10. Nursery is provided for children\,  in
 fants through 2 years old.  Children ages 3[..]\nhttps://idaville.church/e
 vents/worship-service-13/
URL:https://idaville.church/events/worship-service-13/
END:VEVENT
END:VCALENDAR