BEGIN:VCALENDAR
VERSION:2.0
PRODID:-//eventon.com NONSGML v1.0//EN
CALSCALE:GREGORIAN
METHOD:PUBLISH
BEGIN:VEVENT
UID:69e78568460ea
DTSTAMP:20260421T141048Z
DTSTART:20190203T101500Z
DTEND:20190203T114500Z
LOCATION:Idaville Church 3590 Carlisle Road
SUMMARY:Worship Service
DESCRIPTION:Join us for the worship service where we spend time worshiping 
 the Lord\,  praying\,  and studying God&#8217;s Word. We are currently stud
 ying through the book of Revelation.  On Sunday\,  February 3\,  2019 we 
 will be studying Revelation 19:11-16. Nursery is provided for children\,  i
 nfants through 2 years old.  Children ages 3[..]\nhttps://idaville.church/
 events/worship-service-15/
URL:https://idaville.church/events/worship-service-15/
END:VEVENT
END:VCALENDAR