BEGIN:VCALENDAR
VERSION:2.0
PRODID:-//eventon.com NONSGML v1.0//EN
CALSCALE:GREGORIAN
METHOD:PUBLISH
BEGIN:VEVENT
UID:69e74ad505ef1
DTSTAMP:20260421T100053Z
DTSTART:20190224T101500Z
DTEND:20190224T114500Z
LOCATION:Idaville Church 3590 Carlisle Road
SUMMARY:Worship Service
DESCRIPTION:Join us for the worship service where we spend time worshiping 
 the Lord\,  praying\,  and studying God&#8217;s Word. We are currently stud
 ying through the book of Revelation.  On Sunday\,  February 24\,  2019 we
  will be studying Revelation 20:7-10. Nursery is provided for children\,  i
 nfants through 2 years old.  Children ages 3[..]\nhttps://idaville.church/
 events/worship-service-18/
URL:https://idaville.church/events/worship-service-18/
END:VEVENT
END:VCALENDAR