BEGIN:VCALENDAR
VERSION:2.0
PRODID:-//eventon.com NONSGML v1.0//EN
CALSCALE:GREGORIAN
METHOD:PUBLISH
BEGIN:VEVENT
UID:69e75f998e0b6
DTSTAMP:20260421T112929Z
DTSTART:20190310T101500Z
DTEND:20190310T114500Z
LOCATION:Idaville Church 3590 Carlisle Road
SUMMARY:Worship Service
DESCRIPTION:Join us for the worship service where we spend time worshiping 
 the Lord\,  praying\,  and studying God&#8217;s Word. We are currently stud
 ying through the book of Revelation.  On Sunday\,  March 10\,  2019 we wi
 ll be studying Revelation 21:1-8. Nursery is provided for children\,  infan
 ts through 2 years old.  Children ages 3[..]\nhttps://idaville.church/even
 ts/worship-service-20/
URL:https://idaville.church/events/worship-service-20/
END:VEVENT
END:VCALENDAR