BEGIN:VCALENDAR
VERSION:2.0
PRODID:-//eventon.com NONSGML v1.0//EN
CALSCALE:GREGORIAN
METHOD:PUBLISH
BEGIN:VEVENT
UID:69e6347e62cd7
DTSTAMP:20260420T141318Z
DTSTART:20190503T190000Z
DTEND:20190503T203000Z
LOCATION:Idaville Church 3590 Carlisle Road
SUMMARY:Family Movie Night
DESCRIPTION:Join us on Friday\,  May 3\,  2019 at 7:00 pm for our Family Mo
 vie Night. We will be watching the documentary about Billy Graham&#8217;s l
 ife\,  An Extraordinary Journey.  We will also be showing the movie Mary
  Poppins Returns for the children. Popcorn and drinks will be provided.  P
 lease bring your own chair[..]\nhttps://idaville.church/events/family-movie
 -night-2/
URL:https://idaville.church/events/family-movie-night-2/
END:VEVENT
END:VCALENDAR