BEGIN:VCALENDAR
VERSION:2.0
PRODID:-//eventon.com NONSGML v1.0//EN
CALSCALE:GREGORIAN
METHOD:PUBLISH
BEGIN:VEVENT
UID:69e6350ae8511
DTSTAMP:20260420T141538Z
DTSTART:20200925T180000Z
DTEND:20200925T213000Z
LOCATION:Idaville Church 3590 Carlisle Road
SUMMARY:Marriage Night
DESCRIPTION:We are excited to offer the Marriage Night simulcast through Ri
 ghtNow Media on Friday\,  September 25\,  2020 from 6:00 to 9:30 pm.  Chil
 d care is not provided for this event. Enjoy an evening together with your 
 spouse as we&#8217;re encouraged by Les &amp; Leslie Parrott\,  Matt &amp; 
 Lauren Chandler\,  and[..]\nhttps://idaville.church/events/marriage-night/
URL:https://idaville.church/events/marriage-night/
END:VEVENT
END:VCALENDAR