BEGIN:VCALENDAR
VERSION:2.0
PRODID:-//eventon.com NONSGML v1.0//EN
CALSCALE:GREGORIAN
METHOD:PUBLISH
BEGIN:VEVENT
UID:69e635536d419
DTSTAMP:20260420T141651Z
DTSTART:20190526T170000Z
DTEND:20190526T210000Z
LOCATION:Rhodes Grove Camp and Conference Center 7693 Browns Mill Road
SUMMARY:Idaville Church Picnic
DESCRIPTION:Memorial Day weekend is always Family Camp at Rhodes Grove Camp
  and Conference Center.  It is also the annual Idaville Church picnic in t
 he pavilion at Rhodes Grove Camp. Join us on Sunday\,  May 26\,  2019 at 5:
 00 pm for a church picnic.  Bring your own place settings\,  drink\,  meat
 [..]\nhttps://idaville.church/events/idaville-church-picnic/
URL:https://idaville.church/events/idaville-church-picnic/
END:VEVENT
END:VCALENDAR