BEGIN:VCALENDAR
VERSION:2.0
PRODID:-//eventon.com NONSGML v1.0//EN
CALSCALE:GREGORIAN
METHOD:PUBLISH
BEGIN:VEVENT
UID:69e647ee1b65a
DTSTAMP:20260420T153614Z
DTSTART:20190609T101500Z
DTEND:20190609T114500Z
LOCATION:Idaville Church 3590 Carlisle Road
SUMMARY:Worship Service
DESCRIPTION:Join us for the worship service where we spend time worshiping 
 the Lord\,  praying\,  and studying God&#8217;s Word. We are currently stud
 ying through the book of John.  On Sunday\,  June 9\,  2019 we will be st
 udying John 2:1-11. Nursery is provided for children\,  infants through 2 y
 ears old.  Children ages 3[..]\nhttps://idaville.church/events/worship-ser
 vice-31/
URL:https://idaville.church/events/worship-service-31/
END:VEVENT
END:VCALENDAR