BEGIN:VCALENDAR
VERSION:2.0
PRODID:-//eventon.com NONSGML v1.0//EN
CALSCALE:GREGORIAN
METHOD:PUBLISH
BEGIN:VEVENT
UID:69e65b3d7743b
DTSTAMP:20260420T165837Z
DTSTART:20190616T101500Z
DTEND:20190616T114500Z
LOCATION:Idaville Church 3590 Carlisle Road
SUMMARY:Worship Service
DESCRIPTION:Join us for the worship service where we spend time worshiping 
 the Lord\,  praying\,  and studying God&#8217;s Word. We are currently stud
 ying through the book of John.  On Sunday\,  June 16\,  2019 we will be s
 tudying John 2:12-25. Nursery is provided for children\,  infants through 2
  years old.  Children ages 3[..]\nhttps://idaville.church/events/worship-s
 ervice-32/
URL:https://idaville.church/events/worship-service-32/
END:VEVENT
END:VCALENDAR