BEGIN:VCALENDAR
VERSION:2.0
PRODID:-//eventon.com NONSGML v1.0//EN
CALSCALE:GREGORIAN
METHOD:PUBLISH
BEGIN:VEVENT
UID:69e66d623676f
DTSTAMP:20260420T181602Z
DTSTART:20190623T101500Z
DTEND:20190623T114500Z
LOCATION:Idaville Church 3590 Carlisle Road
SUMMARY:Worship Service
DESCRIPTION:Join us for the worship service where we spend time worshiping 
 the Lord\,  praying\,  and studying God&#8217;s Word. We are currently stud
 ying through the book of John.  On Sunday\,  June 23\,  2019 we will be s
 tudying John 3:1-15. Nursery is provided for children\,  infants through 2 
 years old.  Children ages 3[..]\nhttps://idaville.church/events/worship-se
 rvice-33/
URL:https://idaville.church/events/worship-service-33/
END:VEVENT
END:VCALENDAR