BEGIN:VCALENDAR
VERSION:2.0
PRODID:-//eventon.com NONSGML v1.0//EN
CALSCALE:GREGORIAN
METHOD:PUBLISH
BEGIN:VEVENT
UID:69e7ac6a56ecc
DTSTAMP:20260421T165714Z
DTSTART:20190710T120000Z
DTEND:20190710T140000Z
LOCATION:
SUMMARY:Nifty 50's Luncheon
DESCRIPTION:Join other people for lunch and fellowship.  This group meets 
 at a different local restaurant each month. They will be meeting in July at
 :  Olive Garden\,  10 Wilson Avenue\,  Hanover\,  PA  17331. Enjoy fellow
 ship and encouragement! Call Brenda at 717-528-4863 with any questions.\nht
 tps://idaville.church/events/nifty-50s-luncheon-2/
URL:https://idaville.church/events/nifty-50s-luncheon-2/
END:VEVENT
END:VCALENDAR