BEGIN:VCALENDAR
VERSION:2.0
PRODID:-//eventon.com NONSGML v1.0//EN
CALSCALE:GREGORIAN
METHOD:PUBLISH
BEGIN:VEVENT
UID:69e7be18260f0
DTSTAMP:20260421T181240Z
DTSTART:20190712T190000Z
DTEND:20190712T220000Z
LOCATION:
SUMMARY:Swim and See
DESCRIPTION:Join us for a swimming and a movie.  We will be watching Moana
  while swimming.  If you are interested in joining us\,  please contact us
  by phone\,  717-323-0335 or email\,  idavillechurch@gmail.com for address 
 information.\nhttps://idaville.church/events/swim-and-see/
URL:https://idaville.church/events/swim-and-see/
END:VEVENT
END:VCALENDAR