BEGIN:VCALENDAR
VERSION:2.0
PRODID:-//eventon.com NONSGML v1.0//EN
CALSCALE:GREGORIAN
METHOD:PUBLISH
BEGIN:VEVENT
UID:69e7d0d752e31
DTSTAMP:20260421T193239Z
DTSTART:20190722T183000Z
DTEND:20190722T203000Z
LOCATION:Idaville Church 3590 Carlisle Road
SUMMARY:Vacation Bible School
DESCRIPTION:Pre-K through 6th grade students are invited join us for Vacati
 on Bible School. We&#8217;ll be learning about how life is wild\,  but God 
 is good!. Continuing again this year:Â  A time of learning for all adults!Â
   Pastor Marc Webb will be leading an adult &#8220;VBS&#8221; in our sanctu
 ary from 6:30[..]\nhttps://idaville.church/events/vacation-bible-school-2/
URL:https://idaville.church/events/vacation-bible-school-2/
END:VEVENT
END:VCALENDAR