BEGIN:VCALENDAR
VERSION:2.0
PRODID:-//eventon.com NONSGML v1.0//EN
CALSCALE:GREGORIAN
METHOD:PUBLISH
BEGIN:VEVENT
UID:69e6f42d1ff75
DTSTAMP:20260421T035109Z
DTSTART:20190816T190000Z
DTEND:20190816T210000Z
LOCATION:Idaville Church 3590 Carlisle Road
SUMMARY:Men's Retreat and Bow Shoot
DESCRIPTION:Join with other men and their sons as we discover the ways that
  God reveals Himself in nature. Hunting and fishing guide\,  Rocky McElveen
  will help us learn the lessons that the forest\,  rivers\,  and wildlife h
 ave to teach\,  through a two-part video series called Wilderness: The Wond
 er of Creation.[..]\nhttps://idaville.church/events/mens-retreat-and-bow-sh
 oot/
URL:https://idaville.church/events/mens-retreat-and-bow-shoot/
END:VEVENT
END:VCALENDAR