BEGIN:VCALENDAR
VERSION:2.0
PRODID:-//eventon.com NONSGML v1.0//EN
CALSCALE:GREGORIAN
METHOD:PUBLISH
BEGIN:VEVENT
UID:69e6df2a21672
DTSTAMP:20260421T022130Z
DTSTART:20190824T080000Z
DTEND:20190824T150000Z
LOCATION:Idaville Church 3590 Carlisle Road
SUMMARY:NUMA Youth Community Yard Sale
DESCRIPTION:Come join the fun of a community yard sale sponsored by NUMA Yo
 uth Ministries. You can rent tables and invite your friends to shop at this
  event that will help the youth of Idaville Church to be able to attend var
 ious activities throughout the year. Table rentals are $10 per[..]\nhttps:/
 /idaville.church/events/numa-youth-community-yard-sale/
URL:https://idaville.church/events/numa-youth-community-yard-sale/
END:VEVENT
END:VCALENDAR