BEGIN:VCALENDAR
VERSION:2.0
PRODID:-//eventon.com NONSGML v1.0//EN
CALSCALE:GREGORIAN
METHOD:PUBLISH
BEGIN:VEVENT
UID:69e73775d9556
DTSTAMP:20260421T083813Z
DTSTART:20190917T190000Z
DTEND:20190917T200000Z
LOCATION:Idaville Church 3590 Carlisle Road
SUMMARY:Men's & Women's Bible Study
DESCRIPTION:Our Men&#8217;s and Women&#8217;s Bible Study meets twice a mon
 th.  You can join the Tuesday evening study at 7:00 pm or the Saturday mor
 ning study at 7:00 am. We are currently studying Faith Commander:  Living
  Five Values From The Parable Of Jesus. Men and women gather together to wa
 tch the video[..]\nhttps://idaville.church/events/mens-womens-bible-study/
URL:https://idaville.church/events/mens-womens-bible-study/
END:VEVENT
END:VCALENDAR