BEGIN:VCALENDAR
VERSION:2.0
PRODID:-//eventon.com NONSGML v1.0//EN
CALSCALE:GREGORIAN
METHOD:PUBLISH
BEGIN:VEVENT
UID:69e9234781969
DTSTAMP:20260422T193639Z
DTSTART:20200408T120000Z
DTEND:20200408T140000Z
LOCATION:
SUMMARY:Nifty 50's Luncheon
DESCRIPTION:Join other people for lunch and fellowship.  This group meets 
 at a different local restaurant each month. They will be meeting in April a
 t:  Ray&#8217;s Family Restaurant\,  7468 Carlisle Pike\,  York Springs\, 
  PA. Enjoy fellowship and encouragement! Call Brenda at 717-528-4863 with a
 ny questions.\nhttps://idaville.church/events/nifty-50s-luncheon-10/
URL:https://idaville.church/events/nifty-50s-luncheon-10/
END:VEVENT
END:VCALENDAR