BEGIN:VCALENDAR
VERSION:2.0
PRODID:-//eventon.com NONSGML v1.0//EN
CALSCALE:GREGORIAN
METHOD:PUBLISH
BEGIN:VEVENT
UID:69e90db8cadda
DTSTAMP:20260422T180440Z
DTSTART:20200327T080000Z
DTEND:20200327T140000Z
LOCATION:Idaville Church 3590 Carlisle Road
SUMMARY:Secret Church 3:  How To Study The Bible
DESCRIPTION:Dr. David Platt has been holding Secret Church events for 20 ye
 ars.  It is a unique one-night event.  Encouraged by our persecuted broth
 ers and sisters&#8217; example\,  they meet for over 6 hours for intense st
 udy of God&#8217;s Word and passionate prayer for the persecuted. We are pr
 oviding the third Secret[..]\nhttps://idaville.church/events/secret-church-
 3-how-to-study-the-bible/
URL:https://idaville.church/events/secret-church-3-how-to-study-the-bible/
END:VEVENT
END:VCALENDAR