BEGIN:VCALENDAR
VERSION:2.0
PRODID:-//eventon.com NONSGML v1.0//EN
CALSCALE:GREGORIAN
METHOD:PUBLISH
BEGIN:VEVENT
UID:69e8fde8378b5
DTSTAMP:20260422T165712Z
DTSTART:20200411T090000Z
DTEND:20200411T103000Z
LOCATION:Idaville Church 3590 Carlisle Road
SUMMARY:Children's Easter Breakfast
DESCRIPTION:Calling all children from Pre-K through 6th grade to our annual
  Children&#8217;s Easter Breakfast on April 11\,  2020 from 9:00 to 10:30 a
 m. Come enjoy breakfast\,  hunt for eggs\,  hear a devotional\,  and make a
  craft. Parents are welcome to stay with their children.\nhttps://idaville.
 church/events/childrens-easter-breakfast-4/
URL:https://idaville.church/events/childrens-easter-breakfast-4/
END:VEVENT
END:VCALENDAR