BEGIN:VCALENDAR
VERSION:2.0
PRODID:-//eventon.com NONSGML v1.0//EN
CALSCALE:GREGORIAN
METHOD:PUBLISH
BEGIN:VEVENT
UID:69e8ec1ce5d16
DTSTAMP:20260422T154116Z
DTSTART:20200410T180000Z
DTEND:20200410T200000Z
LOCATION:Idaville Church 3590 Carlisle Road
SUMMARY:Good Friday Service
DESCRIPTION:Join us on Friday\,  April 10\,  2020 at 6:00 pm for our Good F
 riday Fundraiser Meal and Youth Program.  Enjoy a spaghetti diner with sal
 ad\,  bread\,  drinks\,  and dessert.  The youth program will follow the m
 eal. All donations will go to help offset the cost of various youth outings
 .\nhttps://idaville.church/events/good-friday-service-3/
URL:https://idaville.church/events/good-friday-service-3/
END:VEVENT
END:VCALENDAR