BEGIN:VCALENDAR
VERSION:2.0
PRODID:-//eventon.com NONSGML v1.0//EN
CALSCALE:GREGORIAN
METHOD:PUBLISH
BEGIN:VEVENT
UID:69e8bda818017
DTSTAMP:20260422T122304Z
DTSTART:20200416T080000Z
DTEND:20200416T150000Z
LOCATION:Idaville Church 3590 Carlisle Road
SUMMARY:2020 Spring Rummage & Bake Sale
DESCRIPTION:Join us for three days of great shopping at our annual Spring R
 ummage &amp; Bake Sale. Thursday\,  April 16\,  2020 from 8:00 am to 3:00 p
 m Friday\,  April 17\,  2020 from 8:00 am to 2:00 pm Saturday\,  April 18\,
   2020 from 8:00 to 11:00 am\nhttps://idaville.church/events/2020-spring-ru
 mmage-bake-sale/
URL:https://idaville.church/events/2020-spring-rummage-bake-sale/
END:VEVENT
END:VCALENDAR