BEGIN:VCALENDAR
VERSION:2.0
PRODID:-//eventon.com NONSGML v1.0//EN
CALSCALE:GREGORIAN
METHOD:PUBLISH
BEGIN:VEVENT
UID:69e8aaf9bcf4f
DTSTAMP:20260422T110321Z
DTSTART:20200202T180000Z
DTEND:20200202T230000Z
LOCATION:Idaville Church 3590 Carlisle Road
SUMMARY:2020 Super Game Night
DESCRIPTION:Come watch the &#8220;Big Game&#8221; with us on Sunday\,  Febr
 uary 2\,  2020 beginning at 6:00 pm. We&#8217;ll also have tables set up fo
 r people to play games\,  if football is not your thing. Bring your favorit
 e tailgate food to share. Door prize drawings will happen throughout the ev
 ening. Consider bringing[..]\nhttps://idaville.church/events/2020-super-gam
 e-night/
URL:https://idaville.church/events/2020-super-game-night/
END:VEVENT
END:VCALENDAR