BEGIN:VCALENDAR
VERSION:2.0
PRODID:-//eventon.com NONSGML v1.0//EN
CALSCALE:GREGORIAN
METHOD:PUBLISH
BEGIN:VEVENT
UID:69e896490412f
DTSTAMP:20260422T093505Z
DTSTART:20200515T083000Z
DTEND:20200515T160000Z
LOCATION:Idaville Church 3590 Carlisle Road
SUMMARY:2020 Work As Worship 1-Day Retreat
DESCRIPTION:Idaville Church is hosting the Work As Worship 1-Day Retreat on
  Friday\,  May 15\,  2020. For Christians who also happen to be business pr
 ofessionals\,  faith and work don&#8217;t often intersect.  The connect be
 tween faith and work is not always obvious\,  but it is a God-given calling
  to make them connect. [..]\nhttps://idaville.church/events/2020-work-as-w
 orship-1-day-retreat/
URL:https://idaville.church/events/2020-work-as-worship-1-day-retreat/
END:VEVENT
END:VCALENDAR