BEGIN:VCALENDAR
VERSION:2.0
PRODID:-//eventon.com NONSGML v1.0//EN
CALSCALE:GREGORIAN
METHOD:PUBLISH
BEGIN:VEVENT
UID:69e7374223328
DTSTAMP:20260421T083722Z
DTSTART:20210207T101500Z
DTEND:20210207T114500Z
LOCATION:Idaville Church 3590 Carlisle Road
SUMMARY:Worship Service
DESCRIPTION:Join us for the worship service where we spend time worshiping 
 the Lord\,  praying\,  and studying God&#8217;s Word. We are currently stud
 ying through the book of Genesis.  On Sunday\,  February 7\,  2021 we wil
 l be studying Genesis 2:1-3. Nursery is provided for children (infants thro
 ugh 2 years old).  Children ages 3[..]\nhttps://idaville.church/events/wor
 ship-service-81/
URL:https://idaville.church/events/worship-service-81/
END:VEVENT
END:VCALENDAR